BEGIN:VCALENDAR
VERSION:2.0
PRODID:-//Vishwa Shanti Sewa Charitable Trust - ECPv6.14.2//NONSGML v1.0//EN
CALSCALE:GREGORIAN
METHOD:PUBLISH
X-ORIGINAL-URL:https://vssct.com
X-WR-CALDESC:Events for Vishwa Shanti Sewa Charitable Trust
REFRESH-INTERVAL;VALUE=DURATION:PT1H
X-Robots-Tag:noindex
X-PUBLISHED-TTL:PT1H
BEGIN:VTIMEZONE
TZID:UTC
BEGIN:STANDARD
TZOFFSETFROM:+0000
TZOFFSETTO:+0000
TZNAME:UTC
DTSTART:20260101T000000
END:STANDARD
END:VTIMEZONE
BEGIN:VEVENT
DTSTART;TZID=UTC:20260529T143000
DTEND;TZID=UTC:20260604T180000
DTSTAMP:20260422T235836
CREATED:20250319T095539Z
LAST-MODIFIED:20260421T113302Z
UID:26985-1780065000-1780596000@vssct.com
SUMMARY:श्रीमद भागवत कथा - सोमनाथ गुजरात
DESCRIPTION:अधिक मास के पावन अवसर पर श्रीमद् भागवत कथा – गुजरात \nदिनांक: 29 मई से 04 जून 2026 \nकथा समय: 3:30 बजे से 6 :30 बजे तक \nकथा स्थल: सोमनाथ मंदिर परिसर\, गुजरात \nआयोजक: विश्व शांति सेवा चैरिटेबल ट्रस्ट \nमोबाईल: 7351112221\, 7351113331
URL:https://vssct.com/event/adhik-mas-shrimad-bhagwat-katha-somnath-gujarat/
CATEGORIES:श्रीमद् भागवत कथा
ATTACH;FMTTYPE=image/jpeg:https://vssct.com/wp-content/uploads/2025/03/IMG_2505-scaled.jpeg
END:VEVENT
END:VCALENDAR